BEGIN:VCALENDAR
VERSION:2.0
PRODID:Events Booking
BEGIN:VEVENT
UID:69e8c1a0b4415
SUMMARY:Illawarra Online Support Group
DESCRIPTION:The Illawarra support group is going online!
 This is an onlin
 e group meeting for people who would usually attend support group events i
 n the Illawarra with our MND advisor Ana.
DTSTART:20200617T000000Z
DTEND:20200617T010000Z
DTSTAMP:20260422T124000Z
ORGANIZER;CN=MNDNSW Website - Events:MAILTO:info@mndnsw.org.au
END:VEVENT
END:VCALENDAR