BEGIN:VCALENDAR
VERSION:2.0
PRODID:Events Booking
BEGIN:VEVENT
UID:69e8c20379b40
SUMMARY:Online Peer Support for Carers
DESCRIPTION:Are you a younger adult caring for a parent or other relative w
 ith MND?
 Would you like the opportunity to connect with others for peer 
 support?
DTSTART:20200611T090000Z
DTEND:20200611T100000Z
DTSTAMP:20260422T124139Z
ORGANIZER;CN=MNDNSW Website - Events:MAILTO:info@mndnsw.org.au
END:VEVENT
END:VCALENDAR