BEGIN:VCALENDAR
VERSION:2.0
PRODID:Events Booking
BEGIN:VEVENT
UID:69e8aa8f598b4
SUMMARY:Online Peer Support for Carers
DESCRIPTION:Online Peer Support for Carers.
 Are you caring for someone wi
 th MND who is eligible for the NDIS? This is an opportunity to exchange id
 eas and helpful tips with others who are caring for a loved one with MND.
 
 Karen Martin\, Support Services Manager\, will be joining this session s
 o you can ask any questions you may have about our services or around the 
 NDIS.
DTSTART:20200708T003000Z
DTEND:20200708T013000Z
DTSTAMP:20260422T110135Z
ORGANIZER;CN=MNDNSW Website - Events:MAILTO:info@mndnsw.org.au
END:VEVENT
END:VCALENDAR