BEGIN:VCALENDAR
VERSION:2.0
PRODID:Events Booking
BEGIN:VEVENT
UID:69e8aa1c4dc67
SUMMARY:Central & Western NSW Online Support Group
DESCRIPTION:We are starting a new Central &amp\; Western NSW online support
  group!
 This is an online group meeting for people who are supported by 
 our MND Advisor Tara\,&nbsp\;that live in Western Sydney\, Blue Mountains\
 , Central NSW and far Western NSW.
DTSTART:20200729T000000Z
DTEND:20200729T010000Z
DTSTAMP:20260422T105940Z
ORGANIZER;CN=MNDNSW Website - Events:MAILTO:info@mndnsw.org.au
END:VEVENT
END:VCALENDAR