BEGIN:VCALENDAR
VERSION:2.0
PRODID:Events Booking
BEGIN:VEVENT
UID:69e8aa3742f52
SUMMARY:Newcastle and Hunter Online Support Group
DESCRIPTION:The Newcastle and Hunter Support Group&nbsp\;is going online!

  This is an online group meeting for people who would usually attend suppo
 rt group events in Newcastle with our MND Advisor Jess.
DTSTART:20200727T000000Z
DTEND:20200727T010000Z
DTSTAMP:20260422T110007Z
ORGANIZER;CN=MNDNSW Website - Events:MAILTO:info@mndnsw.org.au
END:VEVENT
END:VCALENDAR