BEGIN:VCALENDAR
VERSION:2.0
PRODID:Events Booking
BEGIN:VEVENT
UID:69e86a032e660
SUMMARY:Chat and Connect
DESCRIPTION:Do you or a family member have MND? Would you like the opportun
 ity to informally connect with others who share a lived experience of MND?
  MND NSW invite you to come along to this facilitated online Chat and Conn
 ect!
DTSTART:20201028T010000Z
DTEND:20201028T020000Z
DTSTAMP:20260422T062611Z
ORGANIZER;CN=MNDNSW Website - Events:MAILTO:info@mndnsw.org.au
END:VEVENT
END:VCALENDAR