BEGIN:VCALENDAR
VERSION:2.0
PRODID:Events Booking
BEGIN:VEVENT
UID:69e894d3cc535
SUMMARY:Meet our new advisor Jodie!
DESCRIPTION:Join us for our online coffee morning!
 This is an online grou
 p meeting for people who are supported by our&nbsp\;MND Advisor Jodie.
DTSTART:20200827T000000Z
DTEND:20200827T010000Z
DTSTAMP:20260422T092851Z
ORGANIZER;CN=MNDNSW Website - Events:MAILTO:info@mndnsw.org.au
END:VEVENT
END:VCALENDAR