BEGIN:VCALENDAR
VERSION:2.0
PRODID:Events Booking
BEGIN:VEVENT
UID:69e8559c0c4ca
SUMMARY:Chat and Connect 
DESCRIPTION:Do you or a family member have MND?&nbsp\;Would you like the op
 portunity to informally connect with others who share a lived experience o
 f MND? MND NSW invite you to come along to this facilitated online&nbsp\;C
 hat and Connect!
DTSTART:20201119T000000Z
DTEND:20201119T010000Z
DTSTAMP:20260422T045908Z
ORGANIZER;CN=MNDNSW Website - Events:MAILTO:info@mndnsw.org.au
END:VEVENT
END:VCALENDAR