BEGIN:VCALENDAR
VERSION:2.0
PRODID:Events Booking
BEGIN:VEVENT
UID:69e855b155da2
SUMMARY:Younger Carers Online Peer Support
DESCRIPTION:Younger Carers Online Peer Support.
 Are you currently caring 
 for a parent or other relative living with MND? This online group is to al
 low younger carers to connect with others also caring for a parent.
DTSTART:20201111T080000Z
DTEND:20201111T090000Z
DTSTAMP:20260422T045929Z
ORGANIZER;CN=MNDNSW Website - Events:MAILTO:info@mndnsw.org.au
END:VEVENT
END:VCALENDAR