BEGIN:VCALENDAR
VERSION:2.0
PRODID:Events Booking
BEGIN:VEVENT
UID:69e869deab16d
SUMMARY:Newcastle and Hunter Online Support Group 
DESCRIPTION:The Newcastle and Hunter Support Group&nbsp\;is going online!

  This is an online group meeting for people who would usually attend suppo
 rt group events in Newcastle and will be hosted by our MND Advisor Emma.
DTSTART:20201019T230000Z
DTEND:20201020T000000Z
DTSTAMP:20260422T062534Z
ORGANIZER;CN=MNDNSW Website - Events:MAILTO:info@mndnsw.org.au
END:VEVENT
END:VCALENDAR