BEGIN:VCALENDAR
VERSION:2.0
PRODID:Events Booking
BEGIN:VEVENT
UID:69e810ffcf1da
SUMMARY:Newcastle and Hunter Support Group 
DESCRIPTION:This is an online group meeting for people who would usually at
 tend support group events in Newcastle and will be hosted by our MND Advis
 ors Emma and Eileen. Venue to be confirmed.
DTSTART:20210216T230000Z
DTEND:20210217T000000Z
DTSTAMP:20260422T000623Z
ORGANIZER;CN=MNDNSW Website - Events:MAILTO:info@mndnsw.org.au
END:VEVENT
END:VCALENDAR