BEGIN:VCALENDAR
VERSION:2.0
PRODID:Events Booking
BEGIN:VEVENT
UID:69e7fe14b5815
SUMMARY:Younger Carers Online Peer Support 
DESCRIPTION:*POSTPONED*
 Younger Carers Online Peer Support.
 Are you cur
 rently caring for a parent or other relative living with MND? This online 
 group is to allow younger carers to connect with others also caring for a 
 parent.
DTSTART:20210324T080000Z
DTEND:20210324T090000Z
DTSTAMP:20260421T224540Z
ORGANIZER;CN=MNDNSW Website - Events:MAILTO:info@mndnsw.org.au
END:VEVENT
END:VCALENDAR