BEGIN:VCALENDAR
VERSION:2.0
PRODID:Events Booking
BEGIN:VEVENT
UID:69e7fde51ea7c
SUMMARY:Western Sydney Support Group
DESCRIPTION:Western Sydney support group
 This is a group meeting for peop
 le who are supported by our MND Advisor Tara\,&nbsp\;that live in Western 
 Sydney\, Blue Mountains\, Central NSW and far Western NSW.
LOCATION:45 Riverbank Dr\, The Ponds NSW 2769
DTSTART:20210324T230000Z
DTEND:20210325T010000Z
DTSTAMP:20260421T224453Z
ORGANIZER;CN=MNDNSW Website - Events:MAILTO:info@mndnsw.org.au
GEO:-33.705421;150.908173
X-APPLE-STRUCTURED-LOCATION;VALUE=URI;X-ADDRESS=45 Riverbank Dr\, The Ponds
  NSW 2769;X-APPLE-RADIUS=72;X-TITLE=The Ponds Community Hub:-33.705421;150
 .908173
END:VEVENT
END:VCALENDAR