BEGIN:VCALENDAR
VERSION:2.0
PRODID:Events Booking
BEGIN:VEVENT
UID:69e7ffb59231b
SUMMARY:Newcastle and Hunter Support Group
DESCRIPTION:This is a support group meeting for people in Newcastle and the
  Hunter and will be hosted by our MND Advisors Emma and Eileen. 
LOCATION:2289/228 Brunker Rd\, Adamstown NSW 2289
DTSTART:20210328T230000Z
DTEND:20210329T010000Z
DTSTAMP:20260421T225237Z
ORGANIZER;CN=MNDNSW Website - Events:MAILTO:info@mndnsw.org.au
GEO:-32.934019;151.723429
X-APPLE-STRUCTURED-LOCATION;VALUE=URI;X-ADDRESS=2289/228 Brunker Rd\, Adams
 town NSW 2289;X-APPLE-RADIUS=72;X-TITLE=Adamstown Uniting Church:-32.93401
 9;151.723429
END:VEVENT
END:VCALENDAR