BEGIN:VCALENDAR
VERSION:2.0
PRODID:Events Booking
BEGIN:VEVENT
UID:69e7af488fb36
SUMMARY:Western Sydney Support Group - Online
DESCRIPTION:Western Sydney support group
 This is a group meeting for peop
 le who are supported by our MND Advisor Tara\,&nbsp\;that live in Western 
 Sydney\, Blue Mountains\, Central and Western NSW.
DTSTART:20210715T000000Z
DTEND:20210715T020000Z
DTSTAMP:20260421T170928Z
ORGANIZER;CN=MNDNSW Website - Events:MAILTO:info@mndnsw.org.au
END:VEVENT
END:VCALENDAR