BEGIN:VCALENDAR
VERSION:2.0
PRODID:Events Booking
BEGIN:VEVENT
UID:69e7d5f3a910f
SUMMARY:Advance Care Planning: Frequently Asked Questions
DESCRIPTION:Advance Care Planning Australia&nbsp\;are holding an online web
 inar to discuss frequently asked questions and advanced care planning.&nbs
 p\;
DTSTART:20210526T020000Z
DTEND:20210526T030000Z
DTSTAMP:20260421T195427Z
ORGANIZER;CN=MNDNSW Website - Events:MAILTO:info@mndnsw.org.au
END:VEVENT
END:VCALENDAR