BEGIN:VCALENDAR
VERSION:2.0
PRODID:Events Booking
BEGIN:VEVENT
UID:69e782852e5af
SUMMARY:Western Sydney Support Group
DESCRIPTION:Western Sydney support group
 This is a group meeting for peop
 le who are supported by our MND Advisor Tara\,&nbsp\;that live in Western 
 Sydney\, Blue Mountains\, Central and Western NSW.
DTSTART:20210916T000000Z
DTEND:20210916T010000Z
DTSTAMP:20260421T135829Z
ORGANIZER;CN=MNDNSW Website - Events:MAILTO:info@mndnsw.org.au
END:VEVENT
END:VCALENDAR