BEGIN:VCALENDAR
VERSION:2.0
PRODID:Events Booking
BEGIN:VEVENT
UID:69e752abbe941
SUMMARY:Western Sydney Support Group
DESCRIPTION:Western Sydney support group
 This is a group meeting for peop
 le who are supported by our MND Advisor Tara\,&nbsp\;that live in Western 
 Sydney\, Blue Mountains\, Central and Western NSW.
DTSTART:20211117T230000Z
DTEND:20211118T000000Z
DTSTAMP:20260421T103419Z
ORGANIZER;CN=MNDNSW Website - Events:MAILTO:info@mndnsw.org.au
END:VEVENT
END:VCALENDAR