BEGIN:VCALENDAR
VERSION:2.0
PRODID:Events Booking
BEGIN:VEVENT
UID:69e75a64e905a
SUMMARY:Newcastle and Hunter Support Group 
DESCRIPTION:This is a support group meeting for people in Newcastle and the
  Hunter and will be hosted by our MND Advisor Eileen and Shannon. 
DTSTART:20211128T230000Z
DTEND:20211129T000000Z
DTSTAMP:20260421T110716Z
ORGANIZER;CN=MNDNSW Website - Events:MAILTO:info@mndnsw.org.au
END:VEVENT
END:VCALENDAR