BEGIN:VCALENDAR
VERSION:2.0
PRODID:Events Booking
BEGIN:VEVENT
UID:69e75a5ae4c54
SUMMARY:Information session for people recently diagnosed 
DESCRIPTION:Have you\, or someone close to you\, been recently diagnosed wi
 th motor neurone disease (MND)?
 This online interactive information sess
 ion will provide the opportunity for you and your family to have some of y
 our questions answered.
DTSTART:20211123T233000Z
DTEND:20211124T003000Z
DTSTAMP:20210921T155010Z
ORGANIZER;CN=MNDNSW Website - Events:MAILTO:info@mndnsw.org.au
END:VEVENT
END:VCALENDAR