BEGIN:VCALENDAR
VERSION:2.0
PRODID:Events Booking
BEGIN:VEVENT
UID:69e741d7cf044
SUMMARY:Kitchen Table Conversations - Dementia 
DESCRIPTION:Carers Kitchen Table Conversations - an opportunity for carers 
 to&nbsp\;share some time with other carers as we talk about our day&nbsp\;
 to day lives.
 This group will be foscused on supporting carers of people
  with dementia or frontotemporal dementia (FTD)
DTSTART:20211209T080000Z
DTEND:20211209T090000Z
DTSTAMP:20211115T182130Z
ORGANIZER;CN=MNDNSW Website - Events:MAILTO:info@mndnsw.org.au
END:VEVENT
END:VCALENDAR