BEGIN:VCALENDAR
VERSION:2.0
PRODID:Events Booking
BEGIN:VEVENT
UID:69e731d29db7f
SUMMARY:Kitchen Table Conversations
DESCRIPTION:Carers Kitchen Table Conversations - an opportunity for carers 
 to&nbsp\;share some time with other MND carers as we talk about our day&nb
 sp\;to day lives.
DTSTART:20220112T233000Z
DTEND:20220113T010000Z
DTSTAMP:20211208T122116Z
ORGANIZER;CN=MNDNSW Website - Events:MAILTO:info@mndnsw.org.au
END:VEVENT
END:VCALENDAR