BEGIN:VCALENDAR
VERSION:2.0
PRODID:Events Booking
BEGIN:VEVENT
UID:69e7099bea732
SUMMARY:Centrelink payments - Information session 
DESCRIPTION:Want to gain a better understanding of Disability Support Pensi
 on (DSP)\, Carer Payment or Carer Allowance?
 This information session is
  provided by the Welfare Rights Centre.
DTSTART:20220321T230000Z
DTEND:20220322T010000Z
DTSTAMP:20211209T143746Z
ORGANIZER;CN=MNDNSW Website - Events:MAILTO:info@mndnsw.org.au
END:VEVENT
END:VCALENDAR