BEGIN:VCALENDAR
VERSION:2.0
PRODID:Events Booking
BEGIN:VEVENT
UID:69e7096d2e465
SUMMARY:Central Sydney Support Group
DESCRIPTION:This is an online group for people who are supported by&nbsp\;M
 ND Advisor Jodie\,&nbsp\;that live in the Eastern Suburbs\, Inner West and
  Southern Suburbs of Sydney.&nbsp\;
DTSTART:20220331T000000Z
DTEND:20220331T010000Z
DTSTAMP:20220113T164221Z
ORGANIZER;CN=MNDNSW Website - Events:MAILTO:info@mndnsw.org.au
END:VEVENT
END:VCALENDAR