BEGIN:VCALENDAR
VERSION:2.0
PRODID:Events Booking
BEGIN:VEVENT
UID:69e6f3bf88ea3
SUMMARY:Kitchen Table Conversations 
DESCRIPTION:Carers Kitchen Table Conversations - an opportunity for carers 
 to&nbsp\;share some time with other MND carers as we talk about our day&nb
 sp\;to day lives.
 Morning session
DTSTART:20220407T003000Z
DTEND:20220407T013000Z
DTSTAMP:20220119T155935Z
ORGANIZER;CN=MNDNSW Website - Events:MAILTO:info@mndnsw.org.au
END:VEVENT
END:VCALENDAR