BEGIN:VCALENDAR
VERSION:2.0
PRODID:Events Booking
BEGIN:VEVENT
UID:69e71eab46189
SUMMARY:Western Sydney Support Group
DESCRIPTION:This is an online group for people who are supported by&nbsp\;M
 ND Advisor Cathy\,&nbsp\;that live in Western Sydney\, Blue Mountains and 
 Central West NSW.
DTSTART:20220223T230000Z
DTEND:20220224T000000Z
DTSTAMP:20220124T155901Z
ORGANIZER;CN=MNDNSW Website - Events:MAILTO:info@mndnsw.org.au
END:VEVENT
END:VCALENDAR