BEGIN:VCALENDAR
VERSION:2.0
PRODID:Events Booking
BEGIN:VEVENT
UID:69e6f418a70dd
SUMMARY:Western Sydney Support Group
DESCRIPTION:This is an online group for people who are supported by&nbsp\;M
 ND Advisor Cathy\,&nbsp\;that live in Western Sydney\,&nbsp\;Blue Mountain
 s and Central West NSW.
DTSTART:20220428T000000Z
DTEND:20220428T010000Z
DTSTAMP:20220124T155912Z
ORGANIZER;CN=MNDNSW Website - Events:MAILTO:info@mndnsw.org.au
END:VEVENT
END:VCALENDAR