BEGIN:VCALENDAR
VERSION:2.0
PRODID:Events Booking
BEGIN:VEVENT
UID:69e71e96e522f
SUMMARY:MND 101 Webinar 
DESCRIPTION:MND 101 with Neurologist Lauren Giles for people living with MN
 D and their family &amp\; friends.
DTSTART:20220224T030000Z
DTEND:20220224T040000Z
DTSTAMP:20220131T145809Z
ORGANIZER;CN=MNDNSW Website - Events:MAILTO:info@mndnsw.org.au
END:VEVENT
END:VCALENDAR