BEGIN:VCALENDAR
VERSION:2.0
PRODID:Events Booking
BEGIN:VEVENT
UID:69e709df5826c
SUMMARY:Information session for people recently diagnosed 
DESCRIPTION:Have you\, or someone close to you\, been recently diagnosed wi
 th motor neurone disease (MND)?
 This online interactive information sess
 ion will provide the opportunity for you and your family to have some of y
 our questions answered.
DTSTART:20220322T233000Z
DTEND:20220323T003000Z
DTSTAMP:20220222T115038Z
ORGANIZER;CN=MNDNSW Website - Events:MAILTO:info@mndnsw.org.au
END:VEVENT
END:VCALENDAR