BEGIN:VCALENDAR
VERSION:2.0
PRODID:Events Booking
BEGIN:VEVENT
UID:69e70a1e9c827
SUMMARY:Advance Care Planning is for everyone
DESCRIPTION:Advance Care Planning Australia are presenting an information s
 ession in partnership with the Older Persons Advocacy Network (OPAN) on ad
 vance care planning.
DTSTART:20220322T003000Z
DTEND:20220322T013000Z
DTSTAMP:20220307T160702Z
ORGANIZER;CN=MNDNSW Website - Events:MAILTO:info@mndnsw.org.au
END:VEVENT
END:VCALENDAR