BEGIN:VCALENDAR
VERSION:2.0
PRODID:Events Booking
BEGIN:VEVENT
UID:69e6b3f1c38c2
SUMMARY:Kitchen Table Conversations
DESCRIPTION:Carers Kitchen Table Conversations - an opportunity for carers 
 to&nbsp\;share some time with other MND carers as we talk about our day&nb
 sp\;to day lives.
 Evening session
DTSTART:20220728T090000Z
DTEND:20220728T100000Z
DTSTAMP:20220308T162930Z
ORGANIZER;CN=MNDNSW Website - Events:MAILTO:info@mndnsw.org.au
END:VEVENT
END:VCALENDAR