BEGIN:VCALENDAR
VERSION:2.0
PRODID:Events Booking
BEGIN:VEVENT
UID:69e6f76794b48
SUMMARY:MND Youth Hub
DESCRIPTION:MND Youth Hub
 For young carers aged 13-18 years&nbsp\;across 
 Australia
DTSTART:20220413T090000Z
DTEND:20220413T100000Z
DTSTAMP:20220316T201420Z
ORGANIZER;CN=MNDNSW Website - Events:MAILTO:info@mndnsw.org.au
END:VEVENT
END:VCALENDAR