BEGIN:VCALENDAR
VERSION:2.0
PRODID:Events Booking
BEGIN:VEVENT
UID:69e6caf0f26ae
SUMMARY:MND Youth Hub
DESCRIPTION:MND Youth Hub - Online
 For young carers aged 13 - 21 years&nb
 sp\;across Australia
DTSTART:20220608T090000Z
DTEND:20220608T100000Z
DTSTAMP:20220411T151950Z
ORGANIZER;CN=MNDNSW Website - Events:MAILTO:info@mndnsw.org.au
END:VEVENT
END:VCALENDAR