BEGIN:VCALENDAR
VERSION:2.0
PRODID:Events Booking
BEGIN:VEVENT
UID:69e6b455bc7be
SUMMARY:Chat and Connect - Online
DESCRIPTION:Everyone is welcome to join our next Chat and Connect\, an onli
 ne&nbsp\;support group.
 This group is open to everyone across NSW and th
 e ACT\, especially those living in regional or remote areas.
DTSTART:20220727T000000Z
DTEND:20220727T013000Z
DTSTAMP:20220412T155458Z
ORGANIZER;CN=MNDNSW Website - Events:MAILTO:info@mndnsw.org.au
END:VEVENT
END:VCALENDAR