BEGIN:VCALENDAR
VERSION:2.0
PRODID:Events Booking
BEGIN:VEVENT
UID:69e6e07eac79c
SUMMARY:Western Sydney Support Group
DESCRIPTION:Western Sydney support group
 This is a group meeting for peop
 le who are supported by our MND Advisor Cathy\,&nbsp\;that live in Western
  Sydney and the Blue Mountains.
LOCATION:45 Riverbank Dr\, The Ponds NSW 2769
DTSTART:20220519T000000Z
DTEND:20220519T020000Z
DTSTAMP:20220413T164136Z
ORGANIZER;CN=MNDNSW Website - Events:MAILTO:info@mndnsw.org.au
GEO:-33.705421;150.908173
X-APPLE-STRUCTURED-LOCATION;VALUE=URI;X-ADDRESS=45 Riverbank Dr\, The Ponds
  NSW 2769;X-APPLE-RADIUS=72;X-TITLE=The Ponds Community Hub:-33.705421;150
 .908173
END:VEVENT
END:VCALENDAR