BEGIN:VCALENDAR
VERSION:2.0
PRODID:Events Booking
BEGIN:VEVENT
UID:69e6c9f795556
SUMMARY:Walk to d'Feet MND - Darwin
DESCRIPTION:Teams made up of family\, friends\, colleagues and individuals\
 , regardless of age or fitness levels Walk to raise funds and awareness fo
 r research and support for people living with motor neurone disease.
 The
  Walk is approximately 5km and is wheelchair\, stroller and dogs on lead f
 riendly. Walk starts and finishes at beautiful Jingili Water Gardens.
LOCATION:Freshwater Drive
DTSTART:20220604T230000Z
DTSTAMP:20220509T211144Z
ORGANIZER;CN=MNDNSW Website - Events:MAILTO:info@mndnsw.org.au
GEO:-12.386266;130.867634
X-APPLE-STRUCTURED-LOCATION;VALUE=URI;X-ADDRESS=Freshwater Drive;X-APPLE-RA
 DIUS=72;X-TITLE=Jingili Water Gardens:-12.386266;130.867634
END:VEVENT
END:VCALENDAR