BEGIN:VCALENDAR
VERSION:2.0
PRODID:Events Booking
BEGIN:VEVENT
UID:69e60f522d81c
SUMMARY:Walk to d'Feet MND Central Coast
DESCRIPTION:Join us for our first Walk to d'Feet MND event for 2023 on the 
 Central Coast at the Long Jetty Foreshore.
DTSTART:20230304T230000Z
DTEND:20230305T020000Z
DTSTAMP:20221218T115740Z
ORGANIZER;CN=MNDNSW Website - Events:MAILTO:info@mndnsw.org.au
END:VEVENT
END:VCALENDAR