BEGIN:VCALENDAR
VERSION:2.0
PRODID:Events Booking
BEGIN:VEVENT
UID:69e5e9705a649
SUMMARY:Walk to d'Feet MND Illawarra
DESCRIPTION:Our Walk to d'Feet MND Illawarra 2023 will be held on Sunday 7t
 h May at 10am with special returning guest MC's Bella and Christian from i
 98fm
DTSTART:20230507T000000Z
DTEND:20230507T030000Z
DTSTAMP:20221218T125251Z
ORGANIZER;CN=MNDNSW Website - Events:MAILTO:info@mndnsw.org.au
END:VEVENT
END:VCALENDAR