BEGIN:VCALENDAR
VERSION:2.0
PRODID:Events Booking
BEGIN:VEVENT
UID:69e5cfb15f23e
SUMMARY:Walk to d'Feet MND Darwin
DESCRIPTION:Walk to d'Feet Darwin will be back for 2023 at the Jingili Wate
 r Gardens
DTSTART:20230610T230000Z
DTEND:20230611T030000Z
DTSTAMP:20221218T131746Z
ORGANIZER;CN=MNDNSW Website - Events:MAILTO:info@mndnsw.org.au
END:VEVENT
END:VCALENDAR