BEGIN:VCALENDAR
VERSION:2.0
PRODID:Events Booking
BEGIN:VEVENT
UID:69e5cfb15f23d
SUMMARY:Walk to d'Feet MND Hunter
DESCRIPTION:Our Walk to d'Feet MND Hunter 2023 will be held on Sunday 25th 
 June at 10am at Speers Point Park.
DTSTART:20230625T000000Z
DTEND:20230625T030000Z
DTSTAMP:20221218T132451Z
ORGANIZER;CN=MNDNSW Website - Events:MAILTO:info@mndnsw.org.au
END:VEVENT
END:VCALENDAR