BEGIN:VCALENDAR
VERSION:2.0
PRODID:Events Booking
BEGIN:VEVENT
UID:69e5bcb8bf767
SUMMARY:Walk to d'Feet MND Penrith
DESCRIPTION:Our Walk to d'Feet MND Penrith 2023 will be held on Sunday 23rd
  July at 10am at the Sydney International Regatta Centre.
DTSTART:20230723T000000Z
DTEND:20230723T030000Z
DTSTAMP:20221218T134702Z
ORGANIZER;CN=MNDNSW Website - Events:MAILTO:info@mndnsw.org.au
END:VEVENT
END:VCALENDAR