BEGIN:VCALENDAR
VERSION:2.0
PRODID:Events Booking
BEGIN:VEVENT
UID:69e578e04aaa7
SUMMARY:Walk to d'Feet MND Canberra
DESCRIPTION:Our Walk to d'Feet MND Canberra 2023 will be held on Sunday 22n
 d October at 10am at the new location of Upper Commonwealth Place.
LOCATION:Queen Elizabeth Terrace / Mall Rd West\, Parkes\, ACT
DTSTART:20231021T230000Z
DTEND:20231022T020000Z
DTSTAMP:20221218T140539Z
ORGANIZER;CN=MNDNSW Website - Events:MAILTO:info@mndnsw.org.au
GEO:-35.297841;149.132758
X-APPLE-STRUCTURED-LOCATION;VALUE=URI;X-ADDRESS=Queen Elizabeth Terrace / M
 all Rd West\, Parkes\, ACT;X-APPLE-RADIUS=72;X-TITLE=Upper Commonwealth Pl
 ace:-35.297841;149.132758
END:VEVENT
END:VCALENDAR