BEGIN:VCALENDAR
VERSION:2.0
PRODID:Events Booking
BEGIN:VEVENT
UID:69e4f28433d70
SUMMARY:Walk to Defeat MND Forbes
DESCRIPTION:Walk to Defeat MND Forbes will be happening from 10am on April 
 21 at Lions Park\, Forbes.
LOCATION:Junction St\, Forbes NSW 2871\, Australia
DTSTART:20240421T000000Z
DTEND:20240421T030000Z
DTSTAMP:20240325T202952Z
ORGANIZER;CN=MNDNSW Website - Events:MAILTO:info@mndnsw.org.au
GEO:-33.388488;148.001883
X-APPLE-STRUCTURED-LOCATION;VALUE=URI;X-ADDRESS=Junction St\, Forbes NSW 28
 71\, Australia;X-APPLE-RADIUS=72;X-TITLE=Lions Park\, Forbes:-33.388488;14
 8.001883
END:VEVENT
END:VCALENDAR