BEGIN:VCALENDAR
VERSION:2.0
PRODID:Events Booking
BEGIN:VEVENT
UID:69ea631336b42
SUMMARY:Walk to d'Feet MND - Wagga Wagga
DESCRIPTION:Join MND NSW for our Walk in&nbsp\;Wagga Wagga&nbsp\;to raise f
 unds and awareness for Motor Neurone Disease. Let's #dfeetMND2018.
LOCATION:Lake St\, Lake Albert NSW 2650\, Australia
DTSTART:20181006T073000Z
DTSTAMP:20260423T182107Z
ORGANIZER;CN=MNDNSW Website - Events:MAILTO:info@mndnsw.org.au
GEO:-35.171424;147.378025
X-APPLE-STRUCTURED-LOCATION;VALUE=URI;X-ADDRESS=Lake St\, Lake Albert NSW 2
 650\, Australia;X-APPLE-RADIUS=72;X-TITLE=Apex Park\, Wagga Wagga:-35.1714
 24;147.378025
END:VEVENT
END:VCALENDAR