BEGIN:VCALENDAR
VERSION:2.0
PRODID:Events Booking
BEGIN:VEVENT
UID:69ea4d43e555f
SUMMARY:Walk to d'Feet MND - Sydney
DESCRIPTION:Join MND NSW for our Walk in Sydney to raise funds and awarenes
 s for Motor Neurone Disease. Let's #dfeetMND2018.
LOCATION:1 Jamieson St\, Sydney Olympic Park NSW 2127
DTSTART:20181103T220000Z
DTSTAMP:20260423T164803Z
ORGANIZER;CN=MNDNSW Website - Events:MAILTO:info@mndnsw.org.au
GEO:-33.827114;151.059321
X-APPLE-STRUCTURED-LOCATION;VALUE=URI;X-ADDRESS=1 Jamieson St\, Sydney Olym
 pic Park NSW 2127;X-APPLE-RADIUS=72;X-TITLE=Blaxland Riverside Park\, Sydn
 ey Olympic Park:-33.827114;151.059321
END:VEVENT
END:VCALENDAR