BEGIN:VCALENDAR
VERSION:2.0
PRODID:Events Booking
BEGIN:VEVENT
UID:69e9e3828fae3
SUMMARY:Walk to d'Feet MND Forbes
DESCRIPTION:Join&nbsp\;MND NSW for our Walk to d'Feet MND Forbes to raise f
 unds and awareness for motor neurone disease.
LOCATION:Junction St\, Forbes NSW 2871\, Australia
DTSTART:20190414T000000Z
DTSTAMP:20260423T091650Z
ORGANIZER;CN=MNDNSW Website - Events:MAILTO:info@mndnsw.org.au
GEO:-33.388488;148.001883
X-APPLE-STRUCTURED-LOCATION;VALUE=URI;X-ADDRESS=Junction St\, Forbes NSW 28
 71\, Australia;X-APPLE-RADIUS=72;X-TITLE=Lions Park\, Forbes:-33.388488;14
 8.001883
END:VEVENT
END:VCALENDAR