BEGIN:VCALENDAR
VERSION:2.0
PRODID:Events Booking
BEGIN:VEVENT
UID:69e9032489fa8
SUMMARY:Walk to d'Feet MND Canberra - POSTPONED
DESCRIPTION:Join MND NSW for our Walk to d'Feet MND Canberra to raise funds
  and awareness for motor neurone disease.
 POSTPONED new date will be adv
 ised shortly.
 &nbsp\;
LOCATION:Parkes Pl W\, Parkes ACT 2600\, Australia
DTSTART:20200321T223000Z
DTSTAMP:20260422T171932Z
ORGANIZER;CN=MNDNSW Website - Events:MAILTO:info@mndnsw.org.au
GEO:-35.295888;149.131051
X-APPLE-STRUCTURED-LOCATION;VALUE=URI;X-ADDRESS=Parkes Pl W\, Parkes ACT 26
 00\, Australia;X-APPLE-RADIUS=72;X-TITLE=Patrick White Lawns\, Lake Burley
  Griffin:-35.295888;149.131051
END:VEVENT
END:VCALENDAR