BEGIN:VCALENDAR
VERSION:2.0
PRODID:Events Booking
BEGIN:VEVENT
UID:69e8ef61a3849
SUMMARY:Walk to d'Feet MND Orange - POSTPONED
DESCRIPTION:Join MND NSW for our Walk to d'Feet MND Orange to raise funds a
 nd awareness for motor neurone disease.
 POSTPONED new date will be advis
 ed shortly.
LOCATION:Corner Woodward Street and Coronation Drive\, Orange NSW 2800
DTSTART:20200405T000000Z
DTSTAMP:20260422T155513Z
ORGANIZER;CN=MNDNSW Website - Events:MAILTO:info@mndnsw.org.au
GEO:-33.280096;149.086256
X-APPLE-STRUCTURED-LOCATION;VALUE=URI;X-ADDRESS=Corner Woodward Street and 
 Coronation Drive\, Orange NSW 2800;X-APPLE-RADIUS=72;X-TITLE=Orange High S
 chool:-33.280096;149.086256
END:VEVENT
END:VCALENDAR