BEGIN:VCALENDAR
VERSION:2.0
PRODID:Events Booking
BEGIN:VEVENT
UID:69e8d83f9609a
SUMMARY:Walk to d'Feet MND Illawarra - National Walk - POSTPONED
DESCRIPTION:Join MND NSW for the first National Walk&nbsp\;to&nbsp\;d'Feet 
 MND in the Illawarra to raise funds and awareness for motor neurone diseas
 e.
 POSTPONED\, new date will be advised shortly.
LOCATION:12 Trinity Row\, Bulli NSW 2516\, Australia
DTSTART:20200503T000000Z
DTSTAMP:20260422T141631Z
ORGANIZER;CN=MNDNSW Website - Events:MAILTO:info@mndnsw.org.au
GEO:-34.339419;150.924891
X-APPLE-STRUCTURED-LOCATION;VALUE=URI;X-ADDRESS=12 Trinity Row\, Bulli NSW 
 2516\, Australia;X-APPLE-RADIUS=72;X-TITLE=Bulli Surf Club:-34.339419;150.
 924891
END:VEVENT
END:VCALENDAR