BEGIN:VCALENDAR
VERSION:2.0
PRODID:Events Booking
BEGIN:VEVENT
UID:69e8a94b0d3c0
SUMMARY:Walk to d'Feet MND Young - POSTPONED
DESCRIPTION:Join MND NSW for our Walk to d'Feet MND Young to raise funds an
 d awareness for motor neurone disease.
 POSTPONED\, new date to be advise
 d.
LOCATION:Main St\, Young NSW 2594
DTSTART:20200726T000000Z
DTSTAMP:20260422T105611Z
ORGANIZER;CN=MNDNSW Website - Events:MAILTO:info@mndnsw.org.au
GEO:-34.316078;148.295378
X-APPLE-STRUCTURED-LOCATION;VALUE=URI;X-ADDRESS=Main St\, Young NSW 2594;X-
 APPLE-RADIUS=72;X-TITLE=Arboretum Park\, Young:-34.316078;148.295378
END:VEVENT
END:VCALENDAR